BEGIN:VCALENDAR
VERSION:2.0
PRODID:-//Library Market//iCal Export//EN
BEGIN:VEVENT
SUMMARY:Exam Proctoring
UID:35558
DTSTAMP:20260425T135900Z
DTSTART:20260421T173000Z
DTEND:20260421T190000Z
LOCATION:Plymouth District Library, 223 South Main St., Plymouth, MI 48170
 , United States
ROOM: Friends Board Room
DESCRIPTION:
URL:https://plymouth.librarycalendar.com/index.php/event/exam-proctoring-3
 5558
END:VEVENT
END:VCALENDAR
